BEGIN:VCALENDAR
VERSION:2.0
PRODID:-//Westgate Entertainment District - ECPv6.15.6//NONSGML v1.0//EN
CALSCALE:GREGORIAN
METHOD:PUBLISH
X-WR-CALNAME:Westgate Entertainment District
X-ORIGINAL-URL:https://westgateaz.com
X-WR-CALDESC:Events for Westgate Entertainment District
REFRESH-INTERVAL;VALUE=DURATION:PT1H
X-Robots-Tag:noindex
X-PUBLISHED-TTL:PT1H
BEGIN:VTIMEZONE
TZID:America/Phoenix
BEGIN:STANDARD
TZOFFSETFROM:-0700
TZOFFSETTO:-0700
TZNAME:MST
DTSTART:20250101T000000
END:STANDARD
END:VTIMEZONE
BEGIN:VEVENT
DTSTART;TZID=America/Phoenix:20260423T190000
DTEND;TZID=America/Phoenix:20260423T190000
DTSTAMP:20260425T074733
CREATED:20260324T224703Z
LAST-MODIFIED:20260324T224703Z
UID:10012807-1776970800-1776970800@westgateaz.com
SUMMARY:That's Crazy!
DESCRIPTION:For more info & to purchase tickets\, visit stircrazycomedyclub.com.
URL:https://westgateaz.com/event/thats-crazy-8/
LOCATION:Stir Crazy Comedy Club\, Stir Crazy Comedy Club\, 6751 N Sunset Blvd Suite E-206\, Glendale\, AZ\, 85305\, United States
CATEGORIES:Comedy
ATTACH;FMTTYPE=image/jpeg:https://westgateaz.com/wp-content/uploads/2026/03/thats-crazy-101.jpg
END:VEVENT
END:VCALENDAR