BEGIN:VCALENDAR
VERSION:2.0
PRODID:-//Westgate Entertainment District - ECPv6.15.6//NONSGML v1.0//EN
CALSCALE:GREGORIAN
METHOD:PUBLISH
X-WR-CALNAME:Westgate Entertainment District
X-ORIGINAL-URL:https://westgateaz.com
X-WR-CALDESC:Events for Westgate Entertainment District
REFRESH-INTERVAL;VALUE=DURATION:PT1H
X-Robots-Tag:noindex
X-PUBLISHED-TTL:PT1H
BEGIN:VTIMEZONE
TZID:America/Phoenix
BEGIN:STANDARD
TZOFFSETFROM:-0700
TZOFFSETTO:-0700
TZNAME:MST
DTSTART:20230101T000000
END:STANDARD
END:VTIMEZONE
BEGIN:VEVENT
DTSTART;TZID=America/Phoenix:20241213T190000
DTEND;TZID=America/Phoenix:20241213T190000
DTSTAMP:20260423T100352
CREATED:20240429T170354Z
LAST-MODIFIED:20240429T170354Z
UID:10007132-1734116400-1734116400@westgateaz.com
SUMMARY:Billie Eilish
DESCRIPTION:To learn more\, visit desertdiamondarena.com.
URL:https://westgateaz.com/event/billie-eilish/
LOCATION:Desert Diamond Arena\, Desert Diamond Arena\, 9400 W Maryland Ave\, Glendale\, AZ\, 85305\, United States
CATEGORIES:Desert Diamond Arena,Special Events
ATTACH;FMTTYPE=image/png:https://westgateaz.com/wp-content/uploads/2024/04/BillieEilish.png
END:VEVENT
END:VCALENDAR