BEGIN:VCALENDAR
VERSION:2.0
PRODID:-//Westgate Entertainment District - ECPv6.15.6//NONSGML v1.0//EN
CALSCALE:GREGORIAN
METHOD:PUBLISH
X-WR-CALNAME:Westgate Entertainment District
X-ORIGINAL-URL:https://westgateaz.com
X-WR-CALDESC:Events for Westgate Entertainment District
REFRESH-INTERVAL;VALUE=DURATION:PT1H
X-Robots-Tag:noindex
X-PUBLISHED-TTL:PT1H
BEGIN:VTIMEZONE
TZID:America/Phoenix
BEGIN:STANDARD
TZOFFSETFROM:-0700
TZOFFSETTO:-0700
TZNAME:MST
DTSTART:20240101T000000
END:STANDARD
END:VTIMEZONE
BEGIN:VEVENT
DTSTART;TZID=America/Phoenix:20250406T190000
DTEND;TZID=America/Phoenix:20250406T190000
DTSTAMP:20260419T082904
CREATED:20241028T181726Z
LAST-MODIFIED:20250403T005659Z
UID:10010112-1743966000-1743966000@westgateaz.com
SUMMARY:We Them Ones Comedy Tour
DESCRIPTION:To learn more\, visit desertdiamondarena.com.
URL:https://westgateaz.com/event/we-them-ones-comedy-tour/
LOCATION:Desert Diamond Arena\, Desert Diamond Arena\, 9400 W Maryland Ave\, Glendale\, AZ\, 85305\, United States
CATEGORIES:Desert Diamond Arena,Special Events
ATTACH;FMTTYPE=image/jpeg:https://westgateaz.com/wp-content/uploads/2024/10/0406_glendale_864x540-2904afe22d.jpg
END:VEVENT
BEGIN:VEVENT
DTSTART;TZID=America/Phoenix:20250412T180500
DTEND;TZID=America/Phoenix:20250412T180500
DTSTAMP:20260419T082904
CREATED:20241105T153409Z
LAST-MODIFIED:20241105T153409Z
UID:10010181-1744481100-1744481100@westgateaz.com
SUMMARY:Arizona Rattlers vs. San Antonio Gunslingers
DESCRIPTION:To learn more\, visit desertdiamondarena.com.
URL:https://westgateaz.com/event/arizona-rattlers-vs-san-antonio-gunslingers/
LOCATION:Desert Diamond Arena\, Desert Diamond Arena\, 9400 W Maryland Ave\, Glendale\, AZ\, 85305\, United States
CATEGORIES:Desert Diamond Arena,Special Events
ATTACH;FMTTYPE=image/png:https://westgateaz.com/wp-content/uploads/2024/11/4.12.25.png
END:VEVENT
BEGIN:VEVENT
DTSTART;TZID=America/Phoenix:20250426T180500
DTEND;TZID=America/Phoenix:20250426T180500
DTSTAMP:20260419T082904
CREATED:20241105T153734Z
LAST-MODIFIED:20241105T153758Z
UID:10010182-1745690700-1745690700@westgateaz.com
SUMMARY:Arizona Rattlers vs. Northern Arizona Wranglers
DESCRIPTION:To learn more\, visit desertdiamondarena.com.
URL:https://westgateaz.com/event/arizona-rattlers-vs-san-antonio-gunslingers-2/
LOCATION:Desert Diamond Arena\, Desert Diamond Arena\, 9400 W Maryland Ave\, Glendale\, AZ\, 85305\, United States
CATEGORIES:Desert Diamond Arena,Special Events
ATTACH;FMTTYPE=image/png:https://westgateaz.com/wp-content/uploads/2024/11/4.26.25.png
END:VEVENT
END:VCALENDAR