BEGIN:VCALENDAR
VERSION:2.0
PRODID:-//Westgate Entertainment District - ECPv6.15.6//NONSGML v1.0//EN
CALSCALE:GREGORIAN
METHOD:PUBLISH
X-WR-CALNAME:Westgate Entertainment District
X-ORIGINAL-URL:https://westgateaz.com
X-WR-CALDESC:Events for Westgate Entertainment District
REFRESH-INTERVAL;VALUE=DURATION:PT1H
X-Robots-Tag:noindex
X-PUBLISHED-TTL:PT1H
BEGIN:VTIMEZONE
TZID:America/Phoenix
BEGIN:STANDARD
TZOFFSETFROM:-0700
TZOFFSETTO:-0700
TZNAME:MST
DTSTART:20250101T000000
END:STANDARD
END:VTIMEZONE
BEGIN:VEVENT
DTSTART;TZID=America/Phoenix:20260425T170000
DTEND;TZID=America/Phoenix:20260425T170000
DTSTAMP:20260423T052052
CREATED:20260206T214744Z
LAST-MODIFIED:20260206T214744Z
UID:10012712-1777136400-1777136400@westgateaz.com
SUMMARY:Arizona Rattlers vs Tulsa Oilers
DESCRIPTION:To learn more\, visit desertdiamondarena.com.
URL:https://westgateaz.com/event/arizona-rattlers-vs-tulsa-oilers/
LOCATION:Desert Diamond Arena\, Desert Diamond Arena\, 9400 W Maryland Ave\, Glendale\, AZ\, 85305\, United States
CATEGORIES:Desert Diamond Arena,Special Events
ATTACH;FMTTYPE=image/avif:https://westgateaz.com/wp-content/uploads/2026/02/AZR-1920x1080_60F5F81D-F56B-1A60-B687AF974B57AD5A_60fd5df0-e424-4d5c-4ef852052f161721.avif
END:VEVENT
BEGIN:VEVENT
DTSTART;TZID=America/Phoenix:20260426T190000
DTEND;TZID=America/Phoenix:20260426T190000
DTSTAMP:20260423T052052
CREATED:20251029T175530Z
LAST-MODIFIED:20260225T164344Z
UID:10012464-1777230000-1777230000@westgateaz.com
SUMMARY:Third Day
DESCRIPTION:To learn more\, visit desertdiamondarena.com.
URL:https://westgateaz.com/event/third-day/
LOCATION:Desert Diamond Arena\, Desert Diamond Arena\, 9400 W Maryland Ave\, Glendale\, AZ\, 85305\, United States
CATEGORIES:Desert Diamond Arena,Special Events
ATTACH;FMTTYPE=image/avif:https://westgateaz.com/wp-content/uploads/2025/10/ThirdDay_SP26_1920x1080_8DBAF1C3-D881-5083-3D16E37CC9062C4B_8d.avif
END:VEVENT
BEGIN:VEVENT
DTSTART;TZID=America/Phoenix:20260428T200000
DTEND;TZID=America/Phoenix:20260428T200000
DTSTAMP:20260423T052052
CREATED:20251029T175643Z
LAST-MODIFIED:20260225T164339Z
UID:10012465-1777406400-1777406400@westgateaz.com
SUMMARY:Hatsune Miku
DESCRIPTION:To learn more\, visit desertdiamondarena.com.
URL:https://westgateaz.com/event/hatsune-miku/
LOCATION:Desert Diamond Arena\, Desert Diamond Arena\, 9400 W Maryland Ave\, Glendale\, AZ\, 85305\, United States
CATEGORIES:Desert Diamond Arena,Special Events
ATTACH;FMTTYPE=image/avif:https://westgateaz.com/wp-content/uploads/2025/10/HATSUNE-MIKU-2025-Photo_8AB22230-C555-DAA8-9C17847062916E68_8afa49e9-f226-ef74-473b719b5e3c3c33.avif
END:VEVENT
END:VCALENDAR