BEGIN:VCALENDAR
VERSION:2.0
PRODID:-//Westgate Entertainment District - ECPv6.15.6//NONSGML v1.0//EN
CALSCALE:GREGORIAN
METHOD:PUBLISH
X-WR-CALNAME:Westgate Entertainment District
X-ORIGINAL-URL:https://westgateaz.com
X-WR-CALDESC:Events for Westgate Entertainment District
REFRESH-INTERVAL;VALUE=DURATION:PT1H
X-Robots-Tag:noindex
X-PUBLISHED-TTL:PT1H
BEGIN:VTIMEZONE
TZID:America/Phoenix
BEGIN:STANDARD
TZOFFSETFROM:-0700
TZOFFSETTO:-0700
TZNAME:MST
DTSTART:20230101T000000
END:STANDARD
END:VTIMEZONE
BEGIN:VEVENT
DTSTART;TZID=America/Phoenix:20240507T100000
DTEND;TZID=America/Phoenix:20240507T210000
DTSTAMP:20260423T032756
CREATED:20240422T171936Z
LAST-MODIFIED:20240422T171936Z
UID:10006560-1715076000-1715115600@westgateaz.com
SUMMARY:Teacher Appreciation Week
DESCRIPTION:Teachers receive a FREE Family Fun Pass with a valid school I.D. Available in studios only. \nFor more info\, visit asyouwishpottery.com.
URL:https://westgateaz.com/event/teacher-appreciation-week-2/2024-05-07/
LOCATION:As You Wish Pottery\, 9410 W Hanna Ln.\, A-109\, Glendale\, AZ\, 85305\, United States
CATEGORIES:Special Events
ATTACH;FMTTYPE=image/png:https://westgateaz.com/wp-content/uploads/2024/04/Teacher-Appreciation-Week.png
END:VEVENT
BEGIN:VEVENT
DTSTART;TZID=America/Phoenix:20240506T100000
DTEND;TZID=America/Phoenix:20240506T210000
DTSTAMP:20260423T032756
CREATED:20240422T171936Z
LAST-MODIFIED:20240422T171936Z
UID:10006559-1714989600-1715029200@westgateaz.com
SUMMARY:Teacher Appreciation Week
DESCRIPTION:Teachers receive a FREE Family Fun Pass with a valid school I.D. Available in studios only. \nFor more info\, visit asyouwishpottery.com.
URL:https://westgateaz.com/event/teacher-appreciation-week-2/2024-05-06/
LOCATION:As You Wish Pottery\, 9410 W Hanna Ln.\, A-109\, Glendale\, AZ\, 85305\, United States
CATEGORIES:Special Events
ATTACH;FMTTYPE=image/png:https://westgateaz.com/wp-content/uploads/2024/04/Teacher-Appreciation-Week.png
END:VEVENT
BEGIN:VEVENT
DTSTART;TZID=America/Phoenix:20240503T183000
DTEND;TZID=America/Phoenix:20240503T200000
DTSTAMP:20260423T032756
CREATED:20240419T215740Z
LAST-MODIFIED:20240419T215740Z
UID:10006550-1714761000-1714766400@westgateaz.com
SUMMARY:Kid’s Handprints Class “Love You Mommy”
DESCRIPTION:Kids will be led step by step through creating a special Mother’s Day gift for Mom. On the night of the class pick any piece to accommodate the number of handprints you wish to include\, whether it’s for one child or more! The $12 class fee covers paint\, supplies\, instruction\, and the glazing & firing per piece. \nFor more info & to sign up\, visit asyouwishpottery.com.
URL:https://westgateaz.com/event/kids-handprints-class-love-you-mommy/
LOCATION:As You Wish Pottery\, 9410 W Hanna Ln.\, A-109\, Glendale\, AZ\, 85305\, United States
CATEGORIES:Special Events
ATTACH;FMTTYPE=image/jpeg:https://westgateaz.com/wp-content/uploads/2024/04/Kids-Handprint-Class.jpg
END:VEVENT
BEGIN:VEVENT
DTSTART;TZID=America/Phoenix:20240501T100000
DTEND;TZID=America/Phoenix:20240501T210000
DTSTAMP:20260423T032756
CREATED:20240422T173335Z
LAST-MODIFIED:20240422T173335Z
UID:10006567-1714557600-1714597200@westgateaz.com
SUMMARY:Girl Scout Month
DESCRIPTION:We appreciate everything that Girl Scouting stands for! That’s why during the month of May\, we’re waiving Girl Scout studio fees when you paint with your troop! \nFor more info & to sign up\, visit asyouwishpottery.com.
URL:https://westgateaz.com/event/girl-scout-month/
LOCATION:As You Wish Pottery\, 9410 W Hanna Ln.\, A-109\, Glendale\, AZ\, 85305\, United States
ATTACH;FMTTYPE=image/png:https://westgateaz.com/wp-content/uploads/2024/04/Girl-Scout-Month.png
END:VEVENT
BEGIN:VEVENT
DTSTART;TZID=America/Phoenix:20240425T180000
DTEND;TZID=America/Phoenix:20240425T210000
DTSTAMP:20260423T032756
CREATED:20240403T134706Z
LAST-MODIFIED:20240403T134706Z
UID:10006501-1714068000-1714078800@westgateaz.com
SUMMARY:Swiftie Night
DESCRIPTION:Swifties\, this one’s for you! The Tortured Poets Department is dropping soon… and we’re Ready For It! Grab your bestie\, bring your bracelets\, and get ready for a one-of-a-kind painting experience! We’ll have your favorite songs cranked up\, themed mocktails for you to enjoy\, and sticker stencils for you to paint your very own\, Swiftie-inspired pottery pieces.  \nFor more info & to sign up\, visit asyouwishpottery.com.
URL:https://westgateaz.com/event/swiftie-night/
LOCATION:As You Wish Pottery\, 9410 W Hanna Ln.\, A-109\, Glendale\, AZ\, 85305\, United States
CATEGORIES:Special Events
ATTACH;FMTTYPE=image/jpeg:https://westgateaz.com/wp-content/uploads/2024/04/3.jpg
END:VEVENT
BEGIN:VEVENT
DTSTART;TZID=America/Phoenix:20240424T100000
DTEND;TZID=America/Phoenix:20240424T210000
DTSTAMP:20260423T032756
CREATED:20191022T020709Z
LAST-MODIFIED:20260331T165337Z
UID:10002928-1713952800-1713992400@westgateaz.com
SUMMARY:Wacky Wednesday
DESCRIPTION:Free studio fees all day with coupon. \nTo get your coupon\, visit asyouwishpottery.com.
URL:https://westgateaz.com/event/wacky-wednesday/2024-04-24/
LOCATION:As You Wish Pottery\, 9410 W Hanna Ln.\, A-109\, Glendale\, AZ\, 85305\, United States
CATEGORIES:As You Wish,Special Events
ATTACH;FMTTYPE=image/jpeg:https://westgateaz.com/wp-content/uploads/2019/10/Wacky-Wednesday-1.jpg
END:VEVENT
END:VCALENDAR